BEGIN:VCALENDAR
VERSION:2.0
PRODID:-//FIGHT1 - ECPv6.2.4//NONSGML v1.0//EN
CALSCALE:GREGORIAN
METHOD:PUBLISH
X-ORIGINAL-URL:https://www.fight1.it
X-WR-CALDESC:Eventi per FIGHT1
REFRESH-INTERVAL;VALUE=DURATION:PT1H
X-Robots-Tag:noindex
X-PUBLISHED-TTL:PT1H
BEGIN:VTIMEZONE
TZID:Europe/Rome
BEGIN:DAYLIGHT
TZOFFSETFROM:+0100
TZOFFSETTO:+0200
TZNAME:CEST
DTSTART:20190331T010000
END:DAYLIGHT
BEGIN:STANDARD
TZOFFSETFROM:+0200
TZOFFSETTO:+0100
TZNAME:CET
DTSTART:20191027T010000
END:STANDARD
BEGIN:DAYLIGHT
TZOFFSETFROM:+0100
TZOFFSETTO:+0200
TZNAME:CEST
DTSTART:20200329T010000
END:DAYLIGHT
BEGIN:STANDARD
TZOFFSETFROM:+0200
TZOFFSETTO:+0100
TZNAME:CET
DTSTART:20201025T010000
END:STANDARD
END:VTIMEZONE
BEGIN:VEVENT
DTSTART;VALUE=DATE:20190720
DTEND;VALUE=DATE:20190721
DTSTAMP:20260423T132513
CREATED:20190719T172812Z
LAST-MODIFIED:20190719T173433Z
UID:1870-1563580800-1563667199@www.fight1.it
SUMMARY:CAGE WARRIOR XI – 20/7/19 S. PIETRO IN BEVAGNA (TA)
DESCRIPTION:Evento di Sport da Combattimento\nMMA Sabato 20 luglio 2019 in piazza delle Perdonanze a S. Pietro in Bevagna (TA)\nInfo: Giulio Morgante 321820224
URL:https://www.fight1.it/event/cage-warrior-xi-20-7-19-s-pietro-in-bevagna-ta/
LOCATION:S. Pietro in Bevagna\, Piazza delle Perdonanze\, S. Pietro in Bevagna\, TA\, Italia
CATEGORIES:Calendario
ATTACH;FMTTYPE=image/png:https://www.fight1.it/wp-content/uploads/2019/07/cage-warrior-5039.png
END:VEVENT
BEGIN:VEVENT
DTSTART;TZID=Europe/Rome:20191015T000000
DTEND;TZID=Europe/Rome:20191019T000000
DTSTAMP:20260423T132513
CREATED:20190802T115135Z
LAST-MODIFIED:20190802T115135Z
UID:2015-1571097600-1571443200@www.fight1.it
SUMMARY:CAMPIONATI MONDIALI ISKA K1 E K1 LIGHT - CORK - IRELAND
DESCRIPTION:I Campionati mondiali 2019 ISKA Amateur Members Association si terranno a Cork City\, Repubblica d’Irlanda\, allo stadio Neptune dal 15 al 19 ottobre 2019 e comprenderanno sia gli Sport Ring che i Tatami Sports. \nInfo: segreteria@fight1.it
URL:https://www.fight1.it/event/campionati-mondiali-iska-k1-e-k1-light-cork-ireland/
LOCATION:Cork – Ireland\, Cork\, Irlanda
CATEGORIES:Calendario
ATTACH;FMTTYPE=image/jpeg:https://www.fight1.it/wp-content/uploads/2019/08/ISKA-Cork-Ireland.jpeg
END:VEVENT
BEGIN:VEVENT
DTSTART;VALUE=DATE:20191019
DTEND;VALUE=DATE:20191020
DTSTAMP:20260423T132513
CREATED:20191003T123433Z
LAST-MODIFIED:20191003T123433Z
UID:2698-1571443200-1571529599@www.fight1.it
SUMMARY:INSIDE SECONDS OUT - 19 OTT 19 - PARMA
DESCRIPTION:Evento di Sport da Combattimento dilettantistico \ntutte le discipline
URL:https://www.fight1.it/event/inside-seconds-out-19-ott-19-parma/
LOCATION:PARMA
CATEGORIES:Calendario
ATTACH;FMTTYPE=image/png:https://www.fight1.it/wp-content/uploads/2018/10/fight-1-emilia-3311.png
END:VEVENT
BEGIN:VEVENT
DTSTART;VALUE=DATE:20191026
DTEND;VALUE=DATE:20191027
DTSTAMP:20260423T132513
CREATED:20190927T105639Z
LAST-MODIFIED:20190927T105639Z
UID:2670-1572048000-1572134399@www.fight1.it
SUMMARY:FINALE CAMPIONATO DEL MONDO SAVATE COMBAT FEMMINILE CAT. 56 - PETROSYANMANIA 26 OTT - BOFFALORA (MI)
DESCRIPTION:Finale del Campionato del Mondo femminile di Savate Combat tra Chiara Vincis della ASD Kickboxing Savate Savone e Flora Yanga del TMB Toulouse Multi Boxe \n4×2  cat. 56kg \n 
URL:https://www.fight1.it/event/finale-campionato-del-mondo-savate-combat-femminile-cat-56-petrosyanmania-26-ott-boffalora-mi/
LOCATION:Hurricane Club\, Via Magenta 75\, Boffalora Sopra Ticino\, Italia
CATEGORIES:Calendario
ATTACH;FMTTYPE=image/jpeg:https://www.fight1.it/wp-content/uploads/2019/09/Finale-Camp.-Mondo-Savate.jpg
END:VEVENT
BEGIN:VEVENT
DTSTART;VALUE=DATE:20191102
DTEND;VALUE=DATE:20191103
DTSTAMP:20260423T132513
CREATED:20191021T074341Z
LAST-MODIFIED:20191022T083900Z
UID:2935-1572652800-1572739199@www.fight1.it
SUMMARY:STAGE CON GIORGIO E ARMEN PETROSYAN - 2 NOV 2019 - OLBIA
DESCRIPTION:Sabato 2 Novembre a Olbia\, con l’ organizzazione di Mario Rama\, i grandi della KickBoxing  Mondiale Giorgio ed Armen Petrosyan in stage nella palestra Air Sporting club di Olbia\, la Mattina ore 10:00/12:30 e pomeriggio dalle 14:30 alle 17:00
URL:https://www.fight1.it/event/2935/
LOCATION:Air Sporting club\, Olbia
CATEGORIES:Calendario
ATTACH;FMTTYPE=image/jpeg:https://www.fight1.it/wp-content/uploads/2019/10/stage-Petrosyan-1.jpg
END:VEVENT
BEGIN:VEVENT
DTSTART;VALUE=DATE:20191103
DTEND;VALUE=DATE:20191104
DTSTAMP:20260423T132513
CREATED:20191022T080037Z
LAST-MODIFIED:20191022T080037Z
UID:3044-1572739200-1572825599@www.fight1.it
SUMMARY:1a FASE CAMPIONATO REGIONALE CAMPANIA - TORNEO OPEN LEONE - 3 NOV 2019 - NAPOLI
DESCRIPTION:1a Fase Campionato Regionale Campania sport da combattimento \nh. 9\,00 Accrediti e peso \nh. 11\,00 start
URL:https://www.fight1.it/event/1a-fase-campionato-regionale-campania-torneo-open-leone-3-nov-2019-napoli/
LOCATION:Polisportiva Rosso Maniero\, Via pomponio Gaurico 40\, Napoli\, Italia
CATEGORIES:Calendario
ATTACH;FMTTYPE=image/jpeg:https://www.fight1.it/wp-content/uploads/2019/10/Locandina-SKYWARD-2019-WEB.jpg
END:VEVENT
BEGIN:VEVENT
DTSTART;VALUE=DATE:20191103
DTEND;VALUE=DATE:20191104
DTSTAMP:20260423T132513
CREATED:20191022T084414Z
LAST-MODIFIED:20191022T084414Z
UID:3050-1572739200-1572825599@www.fight1.it
SUMMARY:COPPA CSEN - 3 NOV 2019 - CIAMPINO (RM)
DESCRIPTION:Evento di sport da combattimento \nDiscipline a contatto pieno e leggero \nKickboxing – K1 – Fight Code Rules – Savate – Muay Thai \nh 11\,30 – 12\,30 controllo peso
URL:https://www.fight1.it/event/coppa-csen-3-nov-2019-ciampino-rm/
LOCATION:ASD Muzzi Academy\, via Palermo 2\, Ciampino (RM)\, Italia
CATEGORIES:Calendario
ATTACH;FMTTYPE=image/jpeg:https://www.fight1.it/wp-content/uploads/2019/10/Coppa-Csen.jpg
END:VEVENT
BEGIN:VEVENT
DTSTART;VALUE=DATE:20191110
DTEND;VALUE=DATE:20191111
DTSTAMP:20260423T132513
CREATED:20191105T094213Z
LAST-MODIFIED:20191105T094213Z
UID:3169-1573344000-1573430399@www.fight1.it
SUMMARY:CAMPIONATO REGIONALE EMILIA ROMAGNA - 10 NOV 19 - PIEVE DI CENTO (BO)
DESCRIPTION:7° Edizione di “The Future”\,\nevento dilettantistico che comprenderà la prima Fase dei Campionati Regionali dell’ Emilia Romagna e un Torneo Open Csen\, nelle discipline della Kick Boxing\, Muay Thai ed MMA\, con l’ organizzazione dello Staff Kombat Sports Italia Fight & Fitness\, in collaborazione con FIGHT1 Emilia Romagna.
URL:https://www.fight1.it/event/campionato-regionale-emilia-romagna-10-nov-19-pieve-di-cento-bo/
LOCATION:Pieve di Cento
CATEGORIES:Calendario
ATTACH;FMTTYPE=image/jpeg:https://www.fight1.it/wp-content/uploads/2019/11/the-future-10-nov.jpg
END:VEVENT
BEGIN:VEVENT
DTSTART;VALUE=DATE:20191116
DTEND;VALUE=DATE:20191117
DTSTAMP:20260423T132513
CREATED:20191113T100515Z
LAST-MODIFIED:20191113T103158Z
UID:3282-1573862400-1573948799@www.fight1.it
SUMMARY:STAGE DI MUAY THAI CON CTN DIEGO CALZOLARI - 16 NOV 19 - BIELLA
DESCRIPTION:Stage di Muay Thai con il 3 volte Campione del Mondo Diego Calzolari \nDalle 17\,00 alle 19\,00 aperto a tutti
URL:https://www.fight1.it/event/stage-di-muay-thai-con-diego-calzolari-16-nov-19-biella/
LOCATION:Palestra Fit 4 You\, Via Friuli 9\, Biella\, Italia
CATEGORIES:Calendario
ATTACH;FMTTYPE=image/jpeg:https://www.fight1.it/wp-content/uploads/2019/11/16-nov.jpg
ORGANIZER;CN="Diego Calzolari":MAILTO:diecalzolari@gmail.com
END:VEVENT
BEGIN:VEVENT
DTSTART;VALUE=DATE:20191117
DTEND;VALUE=DATE:20191118
DTSTAMP:20260423T132513
CREATED:20190919T090219Z
LAST-MODIFIED:20190919T090219Z
UID:2543-1573948800-1574035199@www.fight1.it
SUMMARY:NAXOS FIGHT TOURNAMENT - 17 NOV - GIARDINI NAXOS (ME)
DESCRIPTION:Evento di sport da combattimento \nGiardini Naxos
URL:https://www.fight1.it/event/naxos-fight-tournament-17-nov-giardini-naxos-me/
LOCATION:Giardini Naxos\, Italia
CATEGORIES:Calendario
ATTACH;FMTTYPE=image/png:https://www.fight1.it/wp-content/uploads/2019/02/fight-1-sicilia-4131.png
ORGANIZER;CN="Matteo Sciacca":MAILTO:matteos-72@hotmail.it
END:VEVENT
BEGIN:VEVENT
DTSTART;VALUE=DATE:20191117
DTEND;VALUE=DATE:20191118
DTSTAMP:20260423T132513
CREATED:20191113T112817Z
LAST-MODIFIED:20191113T112817Z
UID:3302-1573948800-1574035199@www.fight1.it
SUMMARY:STAGE TECNICO DI MUAY THAI - 17 NOV 19 - CESATE (MI)
DESCRIPTION:Stage Tecnico di Muay Thai e sparring di Kickboxing – K1 – Muay Thai \ndalle h 14\,30 alle 17\,30
URL:https://www.fight1.it/event/stage-tecnico-di-muay-thai-17-nov-19-cesate-mi/
LOCATION:Gold Academy\, Via Mincio 168\, Cesate (MI)\, Italia
CATEGORIES:Calendario
ATTACH;FMTTYPE=image/jpeg:https://www.fight1.it/wp-content/uploads/2019/11/Stage-Di-Tella.jpg
END:VEVENT
BEGIN:VEVENT
DTSTART;VALUE=DATE:20191123
DTEND;VALUE=DATE:20191124
DTSTAMP:20260423T132513
CREATED:20191009T131522Z
LAST-MODIFIED:20191009T131540Z
UID:2778-1574467200-1574553599@www.fight1.it
SUMMARY:STREET FIGHT GAMES - 23 NOV 19 - S.MAURO (TO)
DESCRIPTION:Evento di Sport da Combattimento dedicato solo ai bambini: \nPalazzetto S. Mauro (TO) \nDemo 6-7 anni esibizione;\nDemo 8-9 anni esibizione;\nSperanze 10-12 anni contatto leggero.
URL:https://www.fight1.it/event/street-fight-games-23-nov-19-s-mauro-to/
LOCATION:S.Mauro\, S.Mauro (TO)
CATEGORIES:Calendario
ATTACH;FMTTYPE=image/jpeg:https://www.fight1.it/wp-content/uploads/2019/10/FIGHT-1-Piemonte.jpg
END:VEVENT
BEGIN:VEVENT
DTSTART;VALUE=DATE:20191204
DTEND;VALUE=DATE:20191205
DTSTAMP:20260423T132513
CREATED:20191204T145805Z
LAST-MODIFIED:20191204T145805Z
UID:3602-1575417600-1575503999@www.fight1.it
SUMMARY:CAMPIONATO NAZIONALE COMBAT SAVATE - 21 MAR 20 - OSTUNI
DESCRIPTION:Evento di Sport da Combattimento – Savate Combat
URL:https://www.fight1.it/event/campionato-nazionale-combat-savate-21-mar-20-ostuni/
LOCATION:Palazzetto Sport Ostuni\, Ostuni
CATEGORIES:Calendario
ATTACH;FMTTYPE=image/jpeg:https://www.fight1.it/wp-content/uploads/2019/12/FIGHT-1-Puglia.jpg
END:VEVENT
BEGIN:VEVENT
DTSTART;VALUE=DATE:20191215
DTEND;VALUE=DATE:20191216
DTSTAMP:20260423T132513
CREATED:20191113T103003Z
LAST-MODIFIED:20191113T103003Z
UID:3297-1576368000-1576454399@www.fight1.it
SUMMARY:DOOMSDAY - OPEN MUAY THAI -15 DIC 19 - MILANO
DESCRIPTION:Muay Thai Fighting Camp – Giornata OPEN di Muay Thai \nDoomsday – il giorno del giudizio \nh 10\,30 – 12\,00 Stage gratuito di Muay Boran \nh 12\,00 – 12\,30 operazione di peso \nh 13\,00 – 14\,30 Torneo Interclub Muay Thai \nh 15\,00 Incontri Muay Thai e Muay Thai Tecnica \n 
URL:https://www.fight1.it/event/doomsday-open-muay-thai-15-dic-19-milano/
LOCATION:Palestra MGM\, Via Marco D'Agrate 23\, Milano\, Italia
CATEGORIES:Calendario
ATTACH;FMTTYPE=image/jpeg:https://www.fight1.it/wp-content/uploads/2019/11/15-dic-19.jpg
ORGANIZER;CN="Diego Calzolari":MAILTO:diecalzolari@gmail.com
END:VEVENT
BEGIN:VEVENT
DTSTART;VALUE=DATE:20191215
DTEND;VALUE=DATE:20191216
DTSTAMP:20260423T132513
CREATED:20191209T091639Z
LAST-MODIFIED:20191209T091639Z
UID:3653-1576368000-1576454399@www.fight1.it
SUMMARY:KIDS MANIA - 15 DIC 19 - SENAGO (MI)
DESCRIPTION:Selezioni “Piccoli Azzurrini” di Japanese Point Fight
URL:https://www.fight1.it/event/kids-mania-15-dic-19-senago-mi/
LOCATION:Palazzetto dello Sport\, Via Togliatti 3\, Senago\, Italia
CATEGORIES:Calendario
ATTACH;FMTTYPE=image/jpeg:https://www.fight1.it/wp-content/uploads/2019/12/Kids-Mania.jpg
END:VEVENT
BEGIN:VEVENT
DTSTART;VALUE=DATE:20191221
DTEND;VALUE=DATE:20191222
DTSTAMP:20260423T132513
CREATED:20190919T094738Z
LAST-MODIFIED:20190919T094908Z
UID:2547-1576886400-1576972799@www.fight1.it
SUMMARY:EVOLUTION FIGHT - 21 DIC - ROSOLINI (SR)
DESCRIPTION:Evento di sport da combattimento. \nRosolini (SR) \n 
URL:https://www.fight1.it/event/evolution-fight-21-dic-rosolini-sr/
LOCATION:Rosolini\, Rosolini\, Italia
CATEGORIES:Calendario
ATTACH;FMTTYPE=image/png:https://www.fight1.it/wp-content/uploads/2019/02/fight-1-sicilia-4131.png
ORGANIZER;CN="Bruno Botindari":MAILTO:brunobotindari@hotmail.com
END:VEVENT
BEGIN:VEVENT
DTSTART;VALUE=DATE:20191222
DTEND;VALUE=DATE:20191223
DTSTAMP:20260423T132513
CREATED:20190919T100015Z
LAST-MODIFIED:20190919T100015Z
UID:2553-1576972800-1577059199@www.fight1.it
SUMMARY:1a FASE CAMPIONATO REGIONALE SICILIA - 22 DIC - ROSOLINI (SR)
DESCRIPTION:1a Fase Campionato Regionale Sicilia sport da combattimento. \nRosolini (SR)
URL:https://www.fight1.it/event/1a-fase-campionato-regionale-sicilia-22-dic-rosolini-sr/
LOCATION:Rosolini\, Rosolini\, Italia
CATEGORIES:Calendario
ATTACH;FMTTYPE=image/png:https://www.fight1.it/wp-content/uploads/2019/02/fight-1-sicilia-4131.png
ORGANIZER;CN="Bruno Botindari":MAILTO:brunobotindari@hotmail.com
END:VEVENT
BEGIN:VEVENT
DTSTART;VALUE=DATE:20200112
DTEND;VALUE=DATE:20200113
DTSTAMP:20260423T132513
CREATED:20191229T131234Z
LAST-MODIFIED:20191229T131234Z
UID:3804-1578787200-1578873599@www.fight1.it
SUMMARY:ARENA FIGHTERS
DESCRIPTION:Domenica 12 gennaio ad Agliana in provincia di Pistoia con l’ organizzazione di Enzo Orbetti e Top Fight si svolgerà “Arena Fighters”\, appuntamento dedicato ai fighter dilettanti presso il Palazzetto Capitini in via Carlo Goldoni\, 11.\nInizio incontri alle 13\,30 con Muay Thai – MMA – Kick Boxing – K1 – Kyokushin – Grappling – Lotta a terra.\nInfo 3208423218
URL:https://www.fight1.it/event/arena-fighters/
LOCATION:Palazzetto Capitini\, via Carlo Goldoni\, 11\, Agliana (PT)
CATEGORIES:Calendario
ATTACH;FMTTYPE=image/jpeg:https://www.fight1.it/wp-content/uploads/2019/12/Orbetti.jpg
END:VEVENT
BEGIN:VEVENT
DTSTART;VALUE=DATE:20200118
DTEND;VALUE=DATE:20200119
DTSTAMP:20260423T132513
CREATED:20200114T124128Z
LAST-MODIFIED:20200114T235214Z
UID:3934-1579305600-1579391999@www.fight1.it
SUMMARY:CORSO ALLENATORI NELLE MARCHE
DESCRIPTION:AMMESSI AL CORSO: iscritti Fight1\, maggiorenni \, praticanti ed esperti sdc. gli aspiranti dovranno sostenere anche l esame di grado di cintura nera I dan. \nINIZIO:  sabato 11 gennaio 2020 per 6 sabato consecutivi ad Ascoli Piceno. \n  \ndalle 09\,00 alle 18\,00 circa con pausa pranzo \,per complessive ore 42 minimo. \n  \nDOCENTI esterni: \nBiologo e medico dott. VINCENZO MECOZZI \n  \nPsicologa e pedagogica prof.ANGELA DE GENNARO \n  \nNutrizionista JORDAN VALDINOCCI \n  \nArbitro Girolamo Maiorana Liga. \n  \nParte tecnica \,tattica\,metodologia \,teoria e programmazione allenamenti a cura del Coordinatore DTR M° Remo Nepi (alcune ore anche a cura di Jordan Valdinocci) \n  \nle lezioni si svilupperanno nei seguenti appuntamenti: \n  \n1° sabato: 2 ore psicologia sport\, 2 ore storia\,org.associativa\,terminologia\,4 ore tecnica. \n  \n2° sabato : 2 ore didattica\, 2 ore metodologia\, 4 ore tecnica. \n  \n3° sabato: 2 ore didattica\, 2 ore metodologia e modello prestazione\,4 ore tecnica e tattica \n  \n4° sabato: 2 ore regolamenti e arbitraggio\, 4 ore tecnica \,tattica. \n  \n5° sabato: 2 ore alimentazione \,4 ore tecnica e tattica. \n  \n6° sabato :  2 ore anatomia\, 2 ore fisiologia\, 2 ore primo soccorso \,ESAME. \n  \nprezzo  400 euro il corso (comprensivo di dispensa didattica) più 100  euro per tassa esame\, diploma fight1 e tesserino csen. da versare in loco al momento della registrazione. \nInfo: Remo Nepi 3357282828 \n  \n 
URL:https://www.fight1.it/event/corso-allenatori-nelle-marche/
LOCATION:Ascoli Piceno
CATEGORIES:Calendario
ATTACH;FMTTYPE=image/jpeg:https://www.fight1.it/wp-content/uploads/2020/01/Screenshot_20191208-234945_Drive.jpg
END:VEVENT
BEGIN:VEVENT
DTSTART;TZID=Europe/Rome:20200118T080000
DTEND;TZID=Europe/Rome:20200119T170000
DTSTAMP:20260423T132513
CREATED:20191122T094112Z
LAST-MODIFIED:20191122T094146Z
UID:3427-1579334400-1579453200@www.fight1.it
SUMMARY:CORSO ISTRUTTORI - 18/19 GEN 20 - BOLOGNA
DESCRIPTION:1a fase Corso Istruttori Sport da Combattimento
URL:https://www.fight1.it/event/1-corso-istruttori-18-19-gen-20-bologna/
LOCATION:Bologna
CATEGORIES:Calendario
ATTACH;FMTTYPE=image/png:https://www.fight1.it/wp-content/uploads/2019/10/Schermata-2019-10-03-alle-14.24.28.png
ORGANIZER;CN="Roberto Stefani":MAILTO:info@sempreavanti.it
END:VEVENT
BEGIN:VEVENT
DTSTART;VALUE=DATE:20200119
DTEND;VALUE=DATE:20200120
DTSTAMP:20260423T132513
CREATED:20200107T125637Z
LAST-MODIFIED:20200107T125637Z
UID:3858-1579392000-1579478399@www.fight1.it
SUMMARY:SAN MAURO FIGHT SHOW - 19 GENNAIO
DESCRIPTION:Domenica 19 gennaio evento dilettanti con Selezioni Nazionali Savate Pro
URL:https://www.fight1.it/event/san-mauro-fight-show-19-gennaio/
LOCATION:Palazzetto dello Sport di San Mauro Torinese\, Via Luigi Burgo\, SAN MAURO TORINESE (TO)
CATEGORIES:Calendario
ATTACH;FMTTYPE=image/jpeg:https://www.fight1.it/wp-content/uploads/2020/01/facebook_1578323185651.jpg
END:VEVENT
BEGIN:VEVENT
DTSTART;VALUE=DATE:20200125
DTEND;VALUE=DATE:20200126
DTSTAMP:20260423T132513
CREATED:20200114T124349Z
LAST-MODIFIED:20200114T235311Z
UID:3939-1579910400-1579996799@www.fight1.it
SUMMARY:CORSO ALLENATORI NELLE MARCHE
DESCRIPTION:Corso allenatori nelle Marche – terza tappa \nInfo: http://www.fight1.it/event/corso-allenatori-nelle-marche/
URL:https://www.fight1.it/event/corso-allenatori-nelle-marche-2/
CATEGORIES:Calendario
ATTACH;FMTTYPE=image/jpeg:https://www.fight1.it/wp-content/uploads/2020/01/Screenshot_20191208-234945_Drive.jpg
END:VEVENT
BEGIN:VEVENT
DTSTART;VALUE=DATE:20200126
DTEND;VALUE=DATE:20200127
DTSTAMP:20260423T132513
CREATED:20190919T100647Z
LAST-MODIFIED:20200123T134639Z
UID:2555-1579996800-1580083199@www.fight1.it
SUMMARY:DIMOSTRAZIONE DEMO FIGHT - 26 GEN 2020 - ACIREALE
DESCRIPTION:Demo fight sport da combattimento \nAcireale
URL:https://www.fight1.it/event/gala-dilettanti-26-gen-2020-vittoria-rg/
LOCATION:Acireale\, Italia
CATEGORIES:Calendario
ATTACH;FMTTYPE=image/png:https://www.fight1.it/wp-content/uploads/2019/02/fight-1-sicilia-4131.png
END:VEVENT
BEGIN:VEVENT
DTSTART;VALUE=DATE:20200126
DTEND;VALUE=DATE:20200127
DTSTAMP:20260423T132513
CREATED:20190919T124636Z
LAST-MODIFIED:20191204T095243Z
UID:2561-1579996800-1580083199@www.fight1.it
SUMMARY:COPPA DEL LAGO - 26 GEN 2020 - ARCO (TN)
DESCRIPTION:Torneo Open Kickboxing\, MMA\, Muay Thai \,  all’interno ci sarà anche la prima   tappa Triveneto Contest giovanile kickboxing per bambini  4-11 anni
URL:https://www.fight1.it/event/coppa-del-lago-26-gen-2020-torbole-tn/
LOCATION:ARCO\, Torbole (TN)
CATEGORIES:Calendario
ATTACH;FMTTYPE=image/jpeg:https://www.fight1.it/wp-content/uploads/2019/09/261-Trentino.jpg
ORGANIZER;CN="Team Red Wolf Riva del Garda":MAILTO:fight1taa@gmail.com
END:VEVENT
BEGIN:VEVENT
DTSTART;VALUE=DATE:20200126
DTEND;VALUE=DATE:20200127
DTSTAMP:20260423T132513
CREATED:20191003T123855Z
LAST-MODIFIED:20191122T095926Z
UID:2702-1579996800-1580083199@www.fight1.it
SUMMARY:THE FUTURE - CAMPIONATI REGIONALI 26 GEN 20 - PIEVE DI CENTO
DESCRIPTION:Evento di Sport da Combattimento dilettantistico \nCampionato Regionale
URL:https://www.fight1.it/event/the-future-campionati-regionali-26-gen-20-pieve-di-cento/
LOCATION:Pieve di Cento
CATEGORIES:Calendario
ATTACH;FMTTYPE=image/png:https://www.fight1.it/wp-content/uploads/2018/10/fight-1-emilia-3311.png
END:VEVENT
BEGIN:VEVENT
DTSTART;VALUE=DATE:20200126
DTEND;VALUE=DATE:20200127
DTSTAMP:20260423T132513
CREATED:20191218T141125Z
LAST-MODIFIED:20200107T124419Z
UID:3742-1579996800-1580083199@www.fight1.it
SUMMARY:DOOMSDAY 2  - 26 GEN 20 MI
DESCRIPTION:Gara open di light\, classe N e C prevalentemente Muay Thai – domenica 26 gennaio a Milano presso la palestra MGM in via Marco D’ Agrate 23\, organizzata da Diego Calzolari
URL:https://www.fight1.it/event/gara-open-light-classe-n-c-muay-thai-26-gen-20-mi/
LOCATION:Milano
CATEGORIES:Calendario
ATTACH;FMTTYPE=image/jpeg:https://www.fight1.it/wp-content/uploads/2019/12/IMG-20191221-WA0003.jpg
ORGANIZER;CN="Diego Calzolari":MAILTO:diecalzolari@gmail.com
END:VEVENT
BEGIN:VEVENT
DTSTART;VALUE=DATE:20200129
DTEND;VALUE=DATE:20200130
DTSTAMP:20260423T132513
CREATED:20200123T124045Z
LAST-MODIFIED:20200123T124045Z
UID:4003-1580256000-1580342399@www.fight1.it
SUMMARY:STAGE DI RAFFAELE VITALE A MILANO - 29/01
DESCRIPTION:Stage di kickboxing del campione Raffaele Vitale mercoledì 29 gennaio a Milano presso l’ Accademia Europea in via Melzo 9\, con partecipazione gratuita per i tesserati della stessa e di FIGHT1. \nSessione dalle ore 16\,00 alle ore 18\,00 \nInfo: 0229409080  www.accademiaeu.it
URL:https://www.fight1.it/event/stage-di-raffaele-vitale-a-milano-29-01/
LOCATION:Accademia Europea\, Via Melzo 9\, Milano
CATEGORIES:Calendario
ATTACH;FMTTYPE=image/jpeg:https://www.fight1.it/wp-content/uploads/2020/01/raffaele-vitale-on-stage.jpg
END:VEVENT
BEGIN:VEVENT
DTSTART;VALUE=DATE:20200201
DTEND;VALUE=DATE:20200202
DTSTAMP:20260423T132513
CREATED:20200107T171548Z
LAST-MODIFIED:20200107T171548Z
UID:3872-1580515200-1580601599@www.fight1.it
SUMMARY:PETROSYANMANIA - 1 FEBBRAIO
DESCRIPTION:Sabato 1 febbraio a Milano grande galà “Petrosyanmania Gold” con titoli mondiali\, selezioni Oktagon e super prestige fight. \nBiglietti su www.petrosyanmania.com
URL:https://www.fight1.it/event/petrosyanmania-1-febbraio/
LOCATION:Allianz Cloud\, Via Marco Cremosano\, Milano
CATEGORIES:Calendario
ATTACH;FMTTYPE=image/jpeg:https://www.fight1.it/wp-content/uploads/2020/01/petrosyanmania.jpg
END:VEVENT
BEGIN:VEVENT
DTSTART;VALUE=DATE:20200201
DTEND;VALUE=DATE:20200202
DTSTAMP:20260423T132513
CREATED:20200107T173305Z
LAST-MODIFIED:20200107T173305Z
UID:3876-1580515200-1580601599@www.fight1.it
SUMMARY:CORSO TECNICI DI MUAY THAI E MUAY BORAN - 1 FEBBRAIO
DESCRIPTION:Sabato 1 febbraio avrà inizio il corso per allenatori\, istruttori\, maestri di Muay Thai e di Muay Boran FIGHT1. \nIl corso si articolerà su cinque fine settimana dove si terranno le parti tecniche delle due discipline\, che si alterneranno con le parti teoriche di nutrizione\, psicologia\, primo soccorso\, arbitraggio\, ecc… \nLe date dei weekend previste sono: \n1 febbraio\, 29 febbraio\, 28 marzo\, 18 aprile\, 16 maggio. \nPer iscriversi bisogna mandare le credenziali alla mail diecalzolari@gmail.com entro e non oltre mercoledì 22 gennaio.
URL:https://www.fight1.it/event/corso-tecnici-di-muay-thai-e-muay-boran-1-febbraio/
LOCATION:PALESTRA DE GYM 2.0\, via Fiorani n° 56\, MILANO
CATEGORIES:Calendario
ATTACH;FMTTYPE=image/png:https://www.fight1.it/wp-content/uploads/2020/01/Schermata-2020-01-03-alle-17.27.42.png
END:VEVENT
BEGIN:VEVENT
DTSTART;VALUE=DATE:20200201
DTEND;VALUE=DATE:20200202
DTSTAMP:20260423T132513
CREATED:20200114T124853Z
LAST-MODIFIED:20200114T235606Z
UID:3943-1580515200-1580601599@www.fight1.it
SUMMARY:CORSO ALLENATORI NELLE MARCHE
DESCRIPTION:Corso allenatori nelle Marche – quarta tappa \nInfo: http://www.fight1.it/event/corso-allenatori-nelle-marche/
URL:https://www.fight1.it/event/corso-allenatori-nelle-marche-4/
CATEGORIES:Calendario
ATTACH;FMTTYPE=image/jpeg:https://www.fight1.it/wp-content/uploads/2020/01/Screenshot_20191208-234945_Drive.jpg
END:VEVENT
END:VCALENDAR