BEGIN:VCALENDAR
VERSION:2.0
PRODID:-//FIGHT1 - ECPv6.2.4//NONSGML v1.0//EN
CALSCALE:GREGORIAN
METHOD:PUBLISH
X-ORIGINAL-URL:https://www.fight1.it
X-WR-CALDESC:Eventi per FIGHT1
REFRESH-INTERVAL;VALUE=DURATION:PT1H
X-Robots-Tag:noindex
X-PUBLISHED-TTL:PT1H
BEGIN:VTIMEZONE
TZID:Europe/Rome
BEGIN:DAYLIGHT
TZOFFSETFROM:+0100
TZOFFSETTO:+0200
TZNAME:CEST
DTSTART:20190331T010000
END:DAYLIGHT
BEGIN:STANDARD
TZOFFSETFROM:+0200
TZOFFSETTO:+0100
TZNAME:CET
DTSTART:20191027T010000
END:STANDARD
END:VTIMEZONE
BEGIN:VEVENT
DTSTART;VALUE=DATE:20191204
DTEND;VALUE=DATE:20191205
DTSTAMP:20260423T002135
CREATED:20191204T145805Z
LAST-MODIFIED:20191204T145805Z
UID:3602-1575417600-1575503999@www.fight1.it
SUMMARY:CAMPIONATO NAZIONALE COMBAT SAVATE - 21 MAR 20 - OSTUNI
DESCRIPTION:Evento di Sport da Combattimento – Savate Combat
URL:https://www.fight1.it/event/campionato-nazionale-combat-savate-21-mar-20-ostuni/
LOCATION:Palazzetto Sport Ostuni\, Ostuni
CATEGORIES:Calendario
ATTACH;FMTTYPE=image/jpeg:https://www.fight1.it/wp-content/uploads/2019/12/FIGHT-1-Puglia.jpg
END:VEVENT
BEGIN:VEVENT
DTSTART;VALUE=DATE:20191215
DTEND;VALUE=DATE:20191216
DTSTAMP:20260423T002135
CREATED:20191113T103003Z
LAST-MODIFIED:20191113T103003Z
UID:3297-1576368000-1576454399@www.fight1.it
SUMMARY:DOOMSDAY - OPEN MUAY THAI -15 DIC 19 - MILANO
DESCRIPTION:Muay Thai Fighting Camp – Giornata OPEN di Muay Thai \nDoomsday – il giorno del giudizio \nh 10\,30 – 12\,00 Stage gratuito di Muay Boran \nh 12\,00 – 12\,30 operazione di peso \nh 13\,00 – 14\,30 Torneo Interclub Muay Thai \nh 15\,00 Incontri Muay Thai e Muay Thai Tecnica \n 
URL:https://www.fight1.it/event/doomsday-open-muay-thai-15-dic-19-milano/
LOCATION:Palestra MGM\, Via Marco D'Agrate 23\, Milano\, Italia
CATEGORIES:Calendario
ATTACH;FMTTYPE=image/jpeg:https://www.fight1.it/wp-content/uploads/2019/11/15-dic-19.jpg
ORGANIZER;CN="Diego Calzolari":MAILTO:diecalzolari@gmail.com
END:VEVENT
BEGIN:VEVENT
DTSTART;VALUE=DATE:20191215
DTEND;VALUE=DATE:20191216
DTSTAMP:20260423T002135
CREATED:20191209T091639Z
LAST-MODIFIED:20191209T091639Z
UID:3653-1576368000-1576454399@www.fight1.it
SUMMARY:KIDS MANIA - 15 DIC 19 - SENAGO (MI)
DESCRIPTION:Selezioni “Piccoli Azzurrini” di Japanese Point Fight
URL:https://www.fight1.it/event/kids-mania-15-dic-19-senago-mi/
LOCATION:Palazzetto dello Sport\, Via Togliatti 3\, Senago\, Italia
CATEGORIES:Calendario
ATTACH;FMTTYPE=image/jpeg:https://www.fight1.it/wp-content/uploads/2019/12/Kids-Mania.jpg
END:VEVENT
BEGIN:VEVENT
DTSTART;VALUE=DATE:20191221
DTEND;VALUE=DATE:20191222
DTSTAMP:20260423T002135
CREATED:20190919T094738Z
LAST-MODIFIED:20190919T094908Z
UID:2547-1576886400-1576972799@www.fight1.it
SUMMARY:EVOLUTION FIGHT - 21 DIC - ROSOLINI (SR)
DESCRIPTION:Evento di sport da combattimento. \nRosolini (SR) \n 
URL:https://www.fight1.it/event/evolution-fight-21-dic-rosolini-sr/
LOCATION:Rosolini\, Rosolini\, Italia
CATEGORIES:Calendario
ATTACH;FMTTYPE=image/png:https://www.fight1.it/wp-content/uploads/2019/02/fight-1-sicilia-4131.png
ORGANIZER;CN="Bruno Botindari":MAILTO:brunobotindari@hotmail.com
END:VEVENT
BEGIN:VEVENT
DTSTART;VALUE=DATE:20191222
DTEND;VALUE=DATE:20191223
DTSTAMP:20260423T002135
CREATED:20190919T100015Z
LAST-MODIFIED:20190919T100015Z
UID:2553-1576972800-1577059199@www.fight1.it
SUMMARY:1a FASE CAMPIONATO REGIONALE SICILIA - 22 DIC - ROSOLINI (SR)
DESCRIPTION:1a Fase Campionato Regionale Sicilia sport da combattimento. \nRosolini (SR)
URL:https://www.fight1.it/event/1a-fase-campionato-regionale-sicilia-22-dic-rosolini-sr/
LOCATION:Rosolini\, Rosolini\, Italia
CATEGORIES:Calendario
ATTACH;FMTTYPE=image/png:https://www.fight1.it/wp-content/uploads/2019/02/fight-1-sicilia-4131.png
ORGANIZER;CN="Bruno Botindari":MAILTO:brunobotindari@hotmail.com
END:VEVENT
END:VCALENDAR