BEGIN:VCALENDAR
VERSION:2.0
PRODID:-//FIGHT1 - ECPv6.2.4//NONSGML v1.0//EN
CALSCALE:GREGORIAN
METHOD:PUBLISH
X-ORIGINAL-URL:https://www.fight1.it
X-WR-CALDESC:Eventi per FIGHT1
REFRESH-INTERVAL;VALUE=DURATION:PT1H
X-Robots-Tag:noindex
X-PUBLISHED-TTL:PT1H
BEGIN:VTIMEZONE
TZID:Europe/Rome
BEGIN:DAYLIGHT
TZOFFSETFROM:+0100
TZOFFSETTO:+0200
TZNAME:CEST
DTSTART:20190331T010000
END:DAYLIGHT
BEGIN:STANDARD
TZOFFSETFROM:+0200
TZOFFSETTO:+0100
TZNAME:CET
DTSTART:20191027T010000
END:STANDARD
END:VTIMEZONE
BEGIN:VEVENT
DTSTART;VALUE=DATE:20191102
DTEND;VALUE=DATE:20191103
DTSTAMP:20260423T015533
CREATED:20191021T074341Z
LAST-MODIFIED:20191022T083900Z
UID:2935-1572652800-1572739199@www.fight1.it
SUMMARY:STAGE CON GIORGIO E ARMEN PETROSYAN - 2 NOV 2019 - OLBIA
DESCRIPTION:Sabato 2 Novembre a Olbia\, con l’ organizzazione di Mario Rama\, i grandi della KickBoxing  Mondiale Giorgio ed Armen Petrosyan in stage nella palestra Air Sporting club di Olbia\, la Mattina ore 10:00/12:30 e pomeriggio dalle 14:30 alle 17:00
URL:https://www.fight1.it/event/2935/
LOCATION:Air Sporting club\, Olbia
CATEGORIES:Calendario
ATTACH;FMTTYPE=image/jpeg:https://www.fight1.it/wp-content/uploads/2019/10/stage-Petrosyan-1.jpg
END:VEVENT
BEGIN:VEVENT
DTSTART;VALUE=DATE:20191103
DTEND;VALUE=DATE:20191104
DTSTAMP:20260423T015533
CREATED:20191022T080037Z
LAST-MODIFIED:20191022T080037Z
UID:3044-1572739200-1572825599@www.fight1.it
SUMMARY:1a FASE CAMPIONATO REGIONALE CAMPANIA - TORNEO OPEN LEONE - 3 NOV 2019 - NAPOLI
DESCRIPTION:1a Fase Campionato Regionale Campania sport da combattimento \nh. 9\,00 Accrediti e peso \nh. 11\,00 start
URL:https://www.fight1.it/event/1a-fase-campionato-regionale-campania-torneo-open-leone-3-nov-2019-napoli/
LOCATION:Polisportiva Rosso Maniero\, Via pomponio Gaurico 40\, Napoli\, Italia
CATEGORIES:Calendario
ATTACH;FMTTYPE=image/jpeg:https://www.fight1.it/wp-content/uploads/2019/10/Locandina-SKYWARD-2019-WEB.jpg
END:VEVENT
BEGIN:VEVENT
DTSTART;VALUE=DATE:20191103
DTEND;VALUE=DATE:20191104
DTSTAMP:20260423T015533
CREATED:20191022T084414Z
LAST-MODIFIED:20191022T084414Z
UID:3050-1572739200-1572825599@www.fight1.it
SUMMARY:COPPA CSEN - 3 NOV 2019 - CIAMPINO (RM)
DESCRIPTION:Evento di sport da combattimento \nDiscipline a contatto pieno e leggero \nKickboxing – K1 – Fight Code Rules – Savate – Muay Thai \nh 11\,30 – 12\,30 controllo peso
URL:https://www.fight1.it/event/coppa-csen-3-nov-2019-ciampino-rm/
LOCATION:ASD Muzzi Academy\, via Palermo 2\, Ciampino (RM)\, Italia
CATEGORIES:Calendario
ATTACH;FMTTYPE=image/jpeg:https://www.fight1.it/wp-content/uploads/2019/10/Coppa-Csen.jpg
END:VEVENT
BEGIN:VEVENT
DTSTART;VALUE=DATE:20191110
DTEND;VALUE=DATE:20191111
DTSTAMP:20260423T015533
CREATED:20191105T094213Z
LAST-MODIFIED:20191105T094213Z
UID:3169-1573344000-1573430399@www.fight1.it
SUMMARY:CAMPIONATO REGIONALE EMILIA ROMAGNA - 10 NOV 19 - PIEVE DI CENTO (BO)
DESCRIPTION:7° Edizione di “The Future”\,\nevento dilettantistico che comprenderà la prima Fase dei Campionati Regionali dell’ Emilia Romagna e un Torneo Open Csen\, nelle discipline della Kick Boxing\, Muay Thai ed MMA\, con l’ organizzazione dello Staff Kombat Sports Italia Fight & Fitness\, in collaborazione con FIGHT1 Emilia Romagna.
URL:https://www.fight1.it/event/campionato-regionale-emilia-romagna-10-nov-19-pieve-di-cento-bo/
LOCATION:Pieve di Cento
CATEGORIES:Calendario
ATTACH;FMTTYPE=image/jpeg:https://www.fight1.it/wp-content/uploads/2019/11/the-future-10-nov.jpg
END:VEVENT
BEGIN:VEVENT
DTSTART;VALUE=DATE:20191116
DTEND;VALUE=DATE:20191117
DTSTAMP:20260423T015533
CREATED:20191113T100515Z
LAST-MODIFIED:20191113T103158Z
UID:3282-1573862400-1573948799@www.fight1.it
SUMMARY:STAGE DI MUAY THAI CON CTN DIEGO CALZOLARI - 16 NOV 19 - BIELLA
DESCRIPTION:Stage di Muay Thai con il 3 volte Campione del Mondo Diego Calzolari \nDalle 17\,00 alle 19\,00 aperto a tutti
URL:https://www.fight1.it/event/stage-di-muay-thai-con-diego-calzolari-16-nov-19-biella/
LOCATION:Palestra Fit 4 You\, Via Friuli 9\, Biella\, Italia
CATEGORIES:Calendario
ATTACH;FMTTYPE=image/jpeg:https://www.fight1.it/wp-content/uploads/2019/11/16-nov.jpg
ORGANIZER;CN="Diego Calzolari":MAILTO:diecalzolari@gmail.com
END:VEVENT
BEGIN:VEVENT
DTSTART;VALUE=DATE:20191117
DTEND;VALUE=DATE:20191118
DTSTAMP:20260423T015533
CREATED:20190919T090219Z
LAST-MODIFIED:20190919T090219Z
UID:2543-1573948800-1574035199@www.fight1.it
SUMMARY:NAXOS FIGHT TOURNAMENT - 17 NOV - GIARDINI NAXOS (ME)
DESCRIPTION:Evento di sport da combattimento \nGiardini Naxos
URL:https://www.fight1.it/event/naxos-fight-tournament-17-nov-giardini-naxos-me/
LOCATION:Giardini Naxos\, Italia
CATEGORIES:Calendario
ATTACH;FMTTYPE=image/png:https://www.fight1.it/wp-content/uploads/2019/02/fight-1-sicilia-4131.png
ORGANIZER;CN="Matteo Sciacca":MAILTO:matteos-72@hotmail.it
END:VEVENT
BEGIN:VEVENT
DTSTART;VALUE=DATE:20191117
DTEND;VALUE=DATE:20191118
DTSTAMP:20260423T015533
CREATED:20191113T112817Z
LAST-MODIFIED:20191113T112817Z
UID:3302-1573948800-1574035199@www.fight1.it
SUMMARY:STAGE TECNICO DI MUAY THAI - 17 NOV 19 - CESATE (MI)
DESCRIPTION:Stage Tecnico di Muay Thai e sparring di Kickboxing – K1 – Muay Thai \ndalle h 14\,30 alle 17\,30
URL:https://www.fight1.it/event/stage-tecnico-di-muay-thai-17-nov-19-cesate-mi/
LOCATION:Gold Academy\, Via Mincio 168\, Cesate (MI)\, Italia
CATEGORIES:Calendario
ATTACH;FMTTYPE=image/jpeg:https://www.fight1.it/wp-content/uploads/2019/11/Stage-Di-Tella.jpg
END:VEVENT
BEGIN:VEVENT
DTSTART;VALUE=DATE:20191123
DTEND;VALUE=DATE:20191124
DTSTAMP:20260423T015533
CREATED:20191009T131522Z
LAST-MODIFIED:20191009T131540Z
UID:2778-1574467200-1574553599@www.fight1.it
SUMMARY:STREET FIGHT GAMES - 23 NOV 19 - S.MAURO (TO)
DESCRIPTION:Evento di Sport da Combattimento dedicato solo ai bambini: \nPalazzetto S. Mauro (TO) \nDemo 6-7 anni esibizione;\nDemo 8-9 anni esibizione;\nSperanze 10-12 anni contatto leggero.
URL:https://www.fight1.it/event/street-fight-games-23-nov-19-s-mauro-to/
LOCATION:S.Mauro\, S.Mauro (TO)
CATEGORIES:Calendario
ATTACH;FMTTYPE=image/jpeg:https://www.fight1.it/wp-content/uploads/2019/10/FIGHT-1-Piemonte.jpg
END:VEVENT
END:VCALENDAR